BEGIN:VCALENDAR
VERSION:2.0
PRODID:-//FORMAT° - ECPv6.0.0.1//NONSGML v1.0//EN
CALSCALE:GREGORIAN
METHOD:PUBLISH
X-WR-CALNAME:FORMAT°
X-ORIGINAL-URL:https://www.aquaterra58.fr/format
X-WR-CALDESC:Events for FORMAT°
REFRESH-INTERVAL;VALUE=DURATION:PT1H
X-Robots-Tag:noindex
X-PUBLISHED-TTL:PT1H
BEGIN:VTIMEZONE
TZID:Europe/Paris
BEGIN:DAYLIGHT
TZOFFSETFROM:+0100
TZOFFSETTO:+0200
TZNAME:CEST
DTSTART:20250330T010000
END:DAYLIGHT
BEGIN:STANDARD
TZOFFSETFROM:+0200
TZOFFSETTO:+0100
TZNAME:CET
DTSTART:20251026T010000
END:STANDARD
END:VTIMEZONE
BEGIN:VEVENT
DTSTART;VALUE=DATE:20250301
DTEND;VALUE=DATE:20250302
DTSTAMP:20260422T121734
CREATED:20240905T092233Z
LAST-MODIFIED:20240905T094737Z
UID:16002-1740787200-1740873599@www.aquaterra58.fr
SUMMARY:FC PSE 1/2
DESCRIPTION:La formation continue PSE 1/2 est une obligation légale pour tous les titulaires des certifications PSE 1 (Premiers Secours en Équipe de niveau 1) et PSE 2 (Premiers Secours en Équipe de niveau 2). Cette mise à jour annuelle permet aux secouristes de maintenir et actualiser leurs compétences\, indispensables pour intervenir efficacement en situation d’urgence. \nObjectifs de la formation continue :\n\nRéviser les gestes de premiers secours et techniques apprises lors du PSE 1/2\nMettre à jour les connaissances en fonction des nouvelles pratiques et évolutions réglementaires\nMaintenir une maîtrise opérationnelle du matériel de secourisme (oxygénothérapie\, défibrillateur\, immobilisation)\nS’entraîner à réagir de manière coordonnée en équipe face à des scénarios d’urgence variés\n\nCette formation continue est indispensable pour garantir que les secouristes restent opérationnels et qu’ils puissent intervenir efficacement en toute sécurité\, que ce soit dans un cadre associatif\, professionnel ou bénévole. Elle assure une mise à jour annuelle des compétences\, renforçant ainsi la qualité des interventions de secours.
URL:https://www.aquaterra58.fr/format/calendrier/fc-pse-1-2/
ATTACH;FMTTYPE=image/jpeg:https://www.aquaterra58.fr/format/wp-content/uploads/2024/05/20240407_114304-scaled.jpg
END:VEVENT
BEGIN:VEVENT
DTSTART;VALUE=DATE:20250303
DTEND;VALUE=DATE:20250308
DTSTAMP:20260422T121734
CREATED:20240905T090206Z
LAST-MODIFIED:20240905T095121Z
UID:15984-1740960000-1741391999@www.aquaterra58.fr
SUMMARY:BNSSA à Cosne  (Examen 8/03/2025)
DESCRIPTION:Le BNSSA (Brevet National de Sécurité et de Sauvetage Aquatique) est une certification qui permet à son titulaire de surveiller des zones de baignade\, telles que les plages\, piscines\, et plans d’eau\, en dehors du cadre des maîtres-nageurs sauveteurs (MNS). Il est destiné aux personnes qui souhaitent exercer des fonctions de surveillance et de secours aquatique. \nObjectifs de la formation :\n\nAssurer la surveillance des zones de baignade (en piscine\, en mer\, ou en eaux intérieures)\nPrévenir les risques liés à la baignade et assurer la sécurité des usagers\nIntervenir en cas de situation d’urgence pour sauver une victime en difficulté dans l’eau\nAppliquer les gestes de premiers secours et de réanimation en lien avec le sauvetage aquatique\n\nLa formation comprend des modules théoriques et pratiques\, couvrant la connaissance des milieux aquatiques\, les gestes de secours en situation de noyade ou d’accident\, ainsi que l’utilisation du matériel de secours. Le titulaire du BNSSA doit également être formé au PSE 1 (Premiers Secours en Équipe de niveau 1) pour intervenir en équipe et maîtriser les gestes de secourisme indispensables. \nLe BNSSA est donc indispensable pour travailler comme surveillant de baignade\, en lien avec les collectivités locales\, les clubs nautiques ou dans les piscines publiques. Une formation continue est également requise tous les 5 ans pour maintenir cette certification.
URL:https://www.aquaterra58.fr/format/calendrier/bnssa-a-cosne-examen-8-03-2025/
LOCATION:piscine Intercommunale Cosne sur Loire\, 42 rue du Colonel Rabier\, Cosne sur Loire\, 58200\, France
CATEGORIES:Session 1
ATTACH;FMTTYPE=image/jpeg:https://www.aquaterra58.fr/format/wp-content/uploads/2022/07/DSC_0072-scaled.jpg
ORGANIZER;CN="Gaetan%20LEMETAYER":MAILTO:format@aquaterra58.fr
END:VEVENT
BEGIN:VEVENT
DTSTART;VALUE=DATE:20250307
DTEND;VALUE=DATE:20250308
DTSTAMP:20260422T121734
CREATED:20240905T090923Z
LAST-MODIFIED:20240905T095454Z
UID:15988-1741305600-1741391999@www.aquaterra58.fr
SUMMARY:FCBNSSA à Cosne  (Examen le 08/03/2025)
DESCRIPTION:La formation continue du BNSSA (Brevet National de Sécurité et de Sauvetage Aquatique) est obligatoire tous les 5 ans pour les titulaires de cette certification. Elle permet de garantir que les surveillants de baignade maintiennent leurs compétences à jour et restent opérationnels pour assurer la sécurité des usagers des zones de baignade. \nObjectifs de la formation continue :\n\nActualiser les connaissances théoriques liées à la surveillance des zones de baignade\nRéviser et pratiquer les techniques de sauvetage aquatique (remorquage\, dégagement d’une victime\, etc.)\nMettre à jour les gestes de premiers secours spécifiques au sauvetage (réanimation cardio-pulmonaire\, utilisation du défibrillateur\, etc.)\nSe familiariser avec les évolutions réglementaires et les nouveaux protocoles de sécurité\n\nCette remise à niveau est essentielle pour garantir l’efficacité des interventions\, en particulier face aux changements dans les pratiques de secourisme et de surveillance. Elle assure que les titulaires du BNSSA sont prêts à réagir rapidement et efficacement en cas d’accidents ou de noyades. \nEn somme\, la formation continue BNSSA est cruciale pour maintenir les compétences des surveillants de baignade à jour\, assurer leur capacité à intervenir en toute sécurité et répondre aux exigences légales pour pouvoir continuer à exercer cette fonction.
URL:https://www.aquaterra58.fr/format/calendrier/fcbnssa-a-cosne-examen-le-08-03-2025/
LOCATION:piscine Intercommunale Cosne sur Loire\, 42 rue du Colonel Rabier\, Cosne sur Loire\, 58200\, France
CATEGORIES:Session 1
ATTACH;FMTTYPE=image/jpeg:https://www.aquaterra58.fr/format/wp-content/uploads/2024/05/20240418_102450-scaled.jpg
ORGANIZER;CN="Gaetan%20LEMETAYER":MAILTO:format@aquaterra58.fr
END:VEVENT
END:VCALENDAR