BEGIN:VCALENDAR
VERSION:2.0
PRODID:-//FORMAT° - ECPv6.0.0.1//NONSGML v1.0//EN
CALSCALE:GREGORIAN
METHOD:PUBLISH
X-WR-CALNAME:FORMAT°
X-ORIGINAL-URL:https://www.aquaterra58.fr/format
X-WR-CALDESC:Events for FORMAT°
REFRESH-INTERVAL;VALUE=DURATION:PT1H
X-Robots-Tag:noindex
X-PUBLISHED-TTL:PT1H
BEGIN:VTIMEZONE
TZID:Europe/Paris
BEGIN:DAYLIGHT
TZOFFSETFROM:+0100
TZOFFSETTO:+0200
TZNAME:CEST
DTSTART:20230326T010000
END:DAYLIGHT
BEGIN:STANDARD
TZOFFSETFROM:+0200
TZOFFSETTO:+0100
TZNAME:CET
DTSTART:20231029T010000
END:STANDARD
END:VTIMEZONE
BEGIN:VEVENT
DTSTART;VALUE=DATE:20230401
DTEND;VALUE=DATE:20230403
DTSTAMP:20260425T154642
CREATED:20230113T083330Z
LAST-MODIFIED:20230113T083330Z
UID:14737-1680307200-1680479999@www.aquaterra58.fr
SUMMARY:PSE 1 Partie 1
DESCRIPTION:Une formation professionnelle		\n				\n				\n				\n			selon vos besoins !		\n				\n				\n				\n							Les formations professionnelles de l’organisme FORMAT° sont spécialisées dans le domaine sportif. Notre mission est de vous accompagner dans votre parcours professionnel\, c’est pourquoi nous proposons différentes formations qualifiantes et certifiées par l’état. L’objectif principal étant de vous faire monter en compétence et ainsi vous aider à évoluer professionnellement ! Vous trouvez\, en cliquant sur le bouton juste en dessous\, tous les détails de la formation 👉  le programme\, les pré-requis\, la fiche d’inscription\, les objectifs… Vous pourrez également faire votre demande d’inscription en ligne pour cette formation !  						\n				\n				\n				\n					\n			\n						\n						À Propos De Cette Formation
URL:https://www.aquaterra58.fr/format/calendrier/pse-1-partie-1/
LOCATION:Salle des fêtes\, Place de la mairie\, La Marche (58)\, 58400\, France
CATEGORIES:Session 1
ATTACH;FMTTYPE=image/jpeg:https://www.aquaterra58.fr/format/wp-content/uploads/2022/11/20221119_152016-1-scaled.jpg
ORGANIZER;CN="Gaetan%20LEMETAYER":MAILTO:format@aquaterra58.fr
END:VEVENT
BEGIN:VEVENT
DTSTART;VALUE=DATE:20230408
DTEND;VALUE=DATE:20230411
DTSTAMP:20260425T154642
CREATED:20230113T083442Z
LAST-MODIFIED:20230113T083442Z
UID:14739-1680912000-1681171199@www.aquaterra58.fr
SUMMARY:PSE 1 Partie 2
DESCRIPTION:Une formation professionnelle		\n				\n				\n				\n			selon vos besoins !		\n				\n				\n				\n							Les formations professionnelles de l’organisme FORMAT° sont spécialisées dans le domaine sportif. Notre mission est de vous accompagner dans votre parcours professionnel\, c’est pourquoi nous proposons différentes formations qualifiantes et certifiées par l’état. L’objectif principal étant de vous faire monter en compétence et ainsi vous aider à évoluer professionnellement ! Vous trouvez\, en cliquant sur le bouton juste en dessous\, tous les détails de la formation 👉  le programme\, les pré-requis\, la fiche d’inscription\, les objectifs… Vous pourrez également faire votre demande d’inscription en ligne pour cette formation !  						\n				\n				\n				\n					\n			\n						\n						À Propos De Cette Formation
URL:https://www.aquaterra58.fr/format/calendrier/pse-1-partie-2/
LOCATION:Salle des fêtes\, Place de la mairie\, La Marche (58)\, 58400\, France
CATEGORIES:Session 1
ATTACH;FMTTYPE=image/jpeg:https://www.aquaterra58.fr/format/wp-content/uploads/2022/11/20221119_152016-1-scaled.jpg
ORGANIZER;CN="Gaetan%20LEMETAYER":MAILTO:format@aquaterra58.fr
END:VEVENT
BEGIN:VEVENT
DTSTART;VALUE=DATE:20230415
DTEND;VALUE=DATE:20230416
DTSTAMP:20260425T154642
CREATED:20221220T155518Z
LAST-MODIFIED:20230113T082822Z
UID:14666-1681516800-1681603199@www.aquaterra58.fr
SUMMARY:FC PSE
DESCRIPTION:Une formation professionnelle		\n				\n				\n				\n			selon vos besoins !		\n				\n				\n				\n							Les formations professionnelles de l’organisme FORMAT° sont spécialisées dans le domaine sportif. Notre mission est de vous accompagner dans votre parcours professionnel\, c’est pourquoi nous proposons différentes formations qualifiantes et certifiées par l’état. L’objectif principal étant de vous faire monter en compétence et ainsi vous aider à évoluer professionnellement ! Vous trouvez\, en cliquant sur le bouton juste en dessous\, tous les détails de la formation 👉  le programme\, les pré-requis\, la fiche d’inscription\, les objectifs… Vous pourrez également faire votre demande d’inscription en ligne pour cette formation !  						\n				\n				\n				\n					\n			\n						\n						À Propos De Cette Formation
URL:https://www.aquaterra58.fr/format/calendrier/fc-pse/
LOCATION:Salle des fêtes\, Place de la mairie\, La Marche (58)\, 58400\, France
CATEGORIES:Session 1
ATTACH;FMTTYPE=image/jpeg:https://www.aquaterra58.fr/format/wp-content/uploads/2022/07/cpr-first-aid-training-concept-scaled-e1672061409714.jpg
ORGANIZER;CN="Gaetan%20LEMETAYER":MAILTO:format@aquaterra58.fr
END:VEVENT
END:VCALENDAR