BEGIN:VCALENDAR
VERSION:2.0
PRODID:-//FORMAT° - ECPv6.0.0.1//NONSGML v1.0//EN
CALSCALE:GREGORIAN
METHOD:PUBLISH
X-ORIGINAL-URL:https://www.aquaterra58.fr/format
X-WR-CALDESC:Events for FORMAT°
REFRESH-INTERVAL;VALUE=DURATION:PT1H
X-Robots-Tag:noindex
X-PUBLISHED-TTL:PT1H
BEGIN:VTIMEZONE
TZID:Europe/Paris
BEGIN:DAYLIGHT
TZOFFSETFROM:+0100
TZOFFSETTO:+0200
TZNAME:CEST
DTSTART:20250330T010000
END:DAYLIGHT
BEGIN:STANDARD
TZOFFSETFROM:+0200
TZOFFSETTO:+0100
TZNAME:CET
DTSTART:20251026T010000
END:STANDARD
BEGIN:DAYLIGHT
TZOFFSETFROM:+0100
TZOFFSETTO:+0200
TZNAME:CEST
DTSTART:20260329T010000
END:DAYLIGHT
BEGIN:STANDARD
TZOFFSETFROM:+0200
TZOFFSETTO:+0100
TZNAME:CET
DTSTART:20261025T010000
END:STANDARD
END:VTIMEZONE
BEGIN:VEVENT
DTSTART;TZID=Europe/Paris:20251001T080000
DTEND;TZID=Europe/Paris:20260703T170000
DTSTAMP:20260421T165945
CREATED:20250512T125520Z
LAST-MODIFIED:20250512T125520Z
UID:16417-1759305600-1783098000@www.aquaterra58.fr
SUMMARY:BPJEPS AAN
DESCRIPTION:BPJEPS AAN – Brevet Professionnel de la Jeunesse\, de l’Éducation Populaire et du Sport\, spécialité Activités Aquatiques et de la Natation\n🏊‍♂️ Devenez professionnel de la natation et de l’encadrement aquatique\nLe BPJEPS AAN est un diplôme d’État de niveau 4 (équivalent au baccalauréat) qui forme des éducateurs sportifs spécialisés dans les activités aquatiques et de la natation. Il permet d’exercer en toute autonomie dans les piscines publiques ou privées\, en tant que maître-nageur sauveteur\, éducateur aquatique\, ou encore animateur d’activités aquafitness. \n\n🎯 Objectifs de la formation\n\n\nAssurer la surveillance et la sécurité des bassins (diplôme conférant le titre de MNS) \n\n\nEnseigner la natation à tous les publics\, de l’apprentissage à l’entraînement \n\n\nAnimer des activités aquatiques variées : aquagym\, aquabike\, circuit training aquatique… \n\n\nParticiper à l’accueil\, à la gestion et à la promotion des activités d’une structure \n\n\n\n🧠 Contenus de formation\nLa formation est organisée autour de 4 Unités Capitalisables (UC) : \n\n\nUC1 – Encadrer tout public dans tout lieu et toute structure \n\n\nUC2 – Mettre en œuvre un projet d’animation s’inscrivant dans le projet de la structure \n\n\nUC3 – Concevoir une séance\, un cycle d’animation ou d’apprentissage en activités aquatiques \n\n\nUC4 – Mobiliser les techniques de la natation pour mettre en œuvre une séance d’apprentissage\, d’entraînement ou d’animation \n\n\n\n✅ Prérequis\nPour intégrer la formation\, il faut : \n\n\nAvoir 18 ans minimum \n\n\nÊtre titulaire du PSE1  et du BNSSA à jour \n\n\nAvoir réussi le un 400m NL en moins de 7min40 \n\n\nFournir un certificat médical d’aptitude à la pratique et à l’encadrement de la natation \n\n\n\n📅 Durée et rythme\nLe BPJEPS AAN se déroule en formation en alternance\, sur une période de 10 à 12 mois\, incluant : \n\n\nDes temps en centre de formation (cours théoriques\, pratiques et mises en situation) \n\n\nUne immersion professionnelle en structure d’accueil (piscines\, centres aquatiques\, clubs…) \n\n\n\n👨‍🏫 Débouchés professionnels\nLe BPJEPS AAN permet d’exercer dans : \n\n\nLes collectivités territoriales (piscines municipales) \n\n\nLes structures privées (clubs\, centres de remise en forme\, campings…) \n\n\nLe secteur associatif (clubs de natation\, associations sportives) \n\n\nPossibilité d’évoluer vers des fonctions de coordination\, ou de poursuivre vers d’autres diplômes professionnels \n\n\n\n📍 Pourquoi choisir notre centre de formation ?\n\n\nUne équipe pédagogique expérimentée et passionnée \n\n\nUn accompagnement individualisé tout au long de la formation \n\n\nDes partenariats solides avec les structures locales pour des stages de qualité \n\n\nUne préparation renforcée à la réussite du diplôme et à l’insertion professionnelle
URL:https://www.aquaterra58.fr/format/calendrier/bpjeps-aan/
ATTACH;FMTTYPE=image/jpeg:https://www.aquaterra58.fr/format/wp-content/uploads/2021/07/female-fitness-class-with-trainer-aqua-aerobics-2021-08-26-16-26-28-utc-min-scaled.jpg
END:VEVENT
END:VCALENDAR