BEGIN:VCALENDAR
VERSION:2.0
PRODID:-//FORMAT° - ECPv6.0.0.1//NONSGML v1.0//EN
CALSCALE:GREGORIAN
METHOD:PUBLISH
X-ORIGINAL-URL:https://www.aquaterra58.fr/format
X-WR-CALDESC:Events for FORMAT°
REFRESH-INTERVAL;VALUE=DURATION:PT1H
X-Robots-Tag:noindex
X-PUBLISHED-TTL:PT1H
BEGIN:VTIMEZONE
TZID:Europe/Paris
BEGIN:DAYLIGHT
TZOFFSETFROM:+0100
TZOFFSETTO:+0200
TZNAME:CEST
DTSTART:20250330T010000
END:DAYLIGHT
BEGIN:STANDARD
TZOFFSETFROM:+0200
TZOFFSETTO:+0100
TZNAME:CET
DTSTART:20251026T010000
END:STANDARD
END:VTIMEZONE
BEGIN:VEVENT
DTSTART;VALUE=DATE:20250524
DTEND;VALUE=DATE:20250525
DTSTAMP:20260422T104418
CREATED:20241117T102349Z
LAST-MODIFIED:20241118T111608Z
UID:16004-1748044800-1748131199@www.aquaterra58.fr
SUMMARY:FC PSE 1/2
DESCRIPTION:La formation continue PSE 1/2 est une obligation légale pour tous les titulaires des certifications PSE 1 (Premiers Secours en Équipe de niveau 1) et PSE 2 (Premiers Secours en Équipe de niveau 2). Cette mise à jour annuelle permet aux secouristes de maintenir et actualiser leurs compétences\, indispensables pour intervenir efficacement en situation d’urgence. \nObjectifs de la formation continue :\n\nRéviser les gestes de premiers secours et techniques apprises lors du PSE 1/2\nMettre à jour les connaissances en fonction des nouvelles pratiques et évolutions réglementaires\nMaintenir une maîtrise opérationnelle du matériel de secourisme (oxygénothérapie\, défibrillateur\, immobilisation)\nS’entraîner à réagir de manière coordonnée en équipe face à des scénarios d’urgence variés\n\nCette formation continue est indispensable pour garantir que les secouristes restent opérationnels et qu’ils puissent intervenir efficacement en toute sécurité\, que ce soit dans un cadre associatif\, professionnel ou bénévole. Elle assure une mise à jour annuelle des compétences\, renforçant ainsi la qualité des interventions de secours.
URL:https://www.aquaterra58.fr/format/calendrier/fc-pse-1-2-2/
ATTACH;FMTTYPE=image/jpeg:https://www.aquaterra58.fr/format/wp-content/uploads/2023/12/20231209_164922-scaled.jpg
END:VEVENT
END:VCALENDAR