BEGIN:VCALENDAR
VERSION:2.0
PRODID:-//FORMAT° - ECPv6.0.0.1//NONSGML v1.0//EN
CALSCALE:GREGORIAN
METHOD:PUBLISH
X-ORIGINAL-URL:https://www.aquaterra58.fr/format
X-WR-CALDESC:Events for FORMAT°
REFRESH-INTERVAL;VALUE=DURATION:PT1H
X-Robots-Tag:noindex
X-PUBLISHED-TTL:PT1H
BEGIN:VTIMEZONE
TZID:Europe/Paris
BEGIN:DAYLIGHT
TZOFFSETFROM:+0100
TZOFFSETTO:+0200
TZNAME:CEST
DTSTART:20240331T010000
END:DAYLIGHT
BEGIN:STANDARD
TZOFFSETFROM:+0200
TZOFFSETTO:+0100
TZNAME:CET
DTSTART:20241027T010000
END:STANDARD
END:VTIMEZONE
BEGIN:VEVENT
DTSTART;VALUE=DATE:20241026
DTEND;VALUE=DATE:20241028
DTSTAMP:20260423T010856
CREATED:20240905T091426Z
LAST-MODIFIED:20240905T093909Z
UID:15994-1729900800-1730073599@www.aquaterra58.fr
SUMMARY:PSE 1 Oct-Nov Part 1/2
DESCRIPTION:Le PSE 1 (Premiers Secours en Équipe de niveau 1) est une formation essentielle pour toute personne souhaitant acquérir les compétences nécessaires pour intervenir lors de situations d’urgence en équipe. Elle permet d’apprendre à prendre en charge une victime avant l’arrivée des secours\, en appliquant des gestes de premiers secours adaptés. \nObjectifs de la formation :\n\nProtéger la victime et l’environnement immédiat\nÉvaluer l’état de la victime\nRéaliser les gestes de premiers secours (réanimation\, pose d’un défibrillateur\, prise en charge des blessures et traumatismes)\nCollaborer efficacement avec les services d’urgence\n\nLe PSE 1 est également un pré-requis indispensable pour obtenir le BNSSA (Brevet National de Sécurité et de Sauvetage Aquatique). Le BNSSA\, destiné aux sauveteurs aquatiques\, exige cette certification pour assurer que les candidats maîtrisent les gestes de secours en équipe\, compétences cruciales dans le cadre de la surveillance des zones de baignade. \nEn somme\, le PSE 1 garantit que le futur titulaire du BNSSA possède une base solide en secourisme\, nécessaire pour intervenir efficacement dans des situations d’urgence aquatique.
URL:https://www.aquaterra58.fr/format/calendrier/pse-1-oct-nov-part-1/
LOCATION:Salle des fêtes\, Place de la mairie\, La Marche (58)\, 58400\, France
ATTACH;FMTTYPE=image/jpeg:https://www.aquaterra58.fr/format/wp-content/uploads/2023/11/20230408_164210-scaled.jpg
END:VEVENT
END:VCALENDAR