BEGIN:VCALENDAR
VERSION:2.0
PRODID:-//FORMAT° - ECPv6.0.0.1//NONSGML v1.0//EN
CALSCALE:GREGORIAN
METHOD:PUBLISH
X-ORIGINAL-URL:https://www.aquaterra58.fr/format
X-WR-CALDESC:Events for FORMAT°
REFRESH-INTERVAL;VALUE=DURATION:PT1H
X-Robots-Tag:noindex
X-PUBLISHED-TTL:PT1H
BEGIN:VTIMEZONE
TZID:Europe/Paris
BEGIN:DAYLIGHT
TZOFFSETFROM:+0100
TZOFFSETTO:+0200
TZNAME:CEST
DTSTART:20240331T010000
END:DAYLIGHT
BEGIN:STANDARD
TZOFFSETFROM:+0200
TZOFFSETTO:+0100
TZNAME:CET
DTSTART:20241027T010000
END:STANDARD
END:VTIMEZONE
BEGIN:VEVENT
DTSTART;VALUE=DATE:20240415
DTEND;VALUE=DATE:20240420
DTSTAMP:20260423T102132
CREATED:20230905T110328Z
LAST-MODIFIED:20230905T110328Z
UID:15010-1713139200-1713571199@www.aquaterra58.fr
SUMMARY:BNSSA Formule Stage Avril
DESCRIPTION:Une formation professionnelle\nselon vos besoins !\nLes formations professionnelles de l’organisme FORMAT° sont spécialisées dans le domaine sportif. \nNotre mission est de vous accompagner dans votre parcours professionnel\, c’est pourquoi nous proposons différentes formations qualifiantes et certifiées par l’état. \nL’objectif principal étant de vous faire monter en compétence et ainsi vous aider à évoluer professionnellement ! \nVous trouvez\, en cliquant sur le bouton juste en dessous\, tous les détails de la formation 👉  le programme\, les pré-requis\, la fiche d’inscription\, les objectifs… \nVous pourrez également faire votre demande d’inscription en ligne pour cette formation !  \n\nÀ Propos De Cette Formation
URL:https://www.aquaterra58.fr/format/calendrier/bnssa-formule-stage-avril/
CATEGORIES:Session 1
ATTACH;FMTTYPE=image/jpeg:https://www.aquaterra58.fr/format/wp-content/uploads/2021/07/female-lifeguard-standing-with-rescue-can-at-pools-2021-08-28-17-57-37-utc-min-scaled.jpg
ORGANIZER;CN="Gaetan%20LEMETAYER":MAILTO:format@aquaterra58.fr
END:VEVENT
BEGIN:VEVENT
DTSTART;VALUE=DATE:20240419
DTEND;VALUE=DATE:20240420
DTSTAMP:20260423T102132
CREATED:20230905T105752Z
LAST-MODIFIED:20230905T105752Z
UID:15006-1713484800-1713571199@www.aquaterra58.fr
SUMMARY:FCBNSSA 19/04/24 (Examen le 20/04/24)
DESCRIPTION:Une formation professionnelle\nselon vos besoins !\nLes formations professionnelles de l’organisme FORMAT° sont spécialisées dans le domaine sportif. \nNotre mission est de vous accompagner dans votre parcours professionnel\, c’est pourquoi nous proposons différentes formations qualifiantes et certifiées par l’état. \nL’objectif principal étant de vous faire monter en compétence et ainsi vous aider à évoluer professionnellement ! \nVous trouvez\, en cliquant sur le bouton juste en dessous\, tous les détails de la formation 👉  le programme\, les pré-requis\, la fiche d’inscription\, les objectifs… \nVous pourrez également faire votre demande d’inscription en ligne pour cette formation !  \n\nÀ Propos De Cette Formation
URL:https://www.aquaterra58.fr/format/calendrier/fcbnssa-19-04-24-examen-le-20-04-24/
CATEGORIES:Session 1
ATTACH;FMTTYPE=image/jpeg:https://www.aquaterra58.fr/format/wp-content/uploads/2021/07/female-lifeguard-standing-with-rescue-can-at-pools-2021-08-28-17-57-37-utc-min-scaled.jpg
ORGANIZER;CN="Gaetan%20LEMETAYER":MAILTO:format@aquaterra58.fr
END:VEVENT
END:VCALENDAR