BEGIN:VCALENDAR
VERSION:2.0
PRODID:-//FORMAT° - ECPv6.0.0.1//NONSGML v1.0//EN
CALSCALE:GREGORIAN
METHOD:PUBLISH
X-ORIGINAL-URL:https://www.aquaterra58.fr/format
X-WR-CALDESC:Events for FORMAT°
REFRESH-INTERVAL;VALUE=DURATION:PT1H
X-Robots-Tag:noindex
X-PUBLISHED-TTL:PT1H
BEGIN:VTIMEZONE
TZID:Europe/Paris
BEGIN:DAYLIGHT
TZOFFSETFROM:+0100
TZOFFSETTO:+0200
TZNAME:CEST
DTSTART:20240331T010000
END:DAYLIGHT
BEGIN:STANDARD
TZOFFSETFROM:+0200
TZOFFSETTO:+0100
TZNAME:CET
DTSTART:20241027T010000
END:STANDARD
END:VTIMEZONE
BEGIN:VEVENT
DTSTART;VALUE=DATE:20240406
DTEND;VALUE=DATE:20240408
DTSTAMP:20260423T102012
CREATED:20230905T105216Z
LAST-MODIFIED:20230905T105216Z
UID:15002-1712361600-1712534399@www.aquaterra58.fr
SUMMARY:PSE 1 Mars Avril Part 2
DESCRIPTION:Une formation professionnelle\nselon vos besoins !\nLes formations professionnelles de l’organisme FORMAT° sont spécialisées dans le domaine sportif. \nNotre mission est de vous accompagner dans votre parcours professionnel\, c’est pourquoi nous proposons différentes formations qualifiantes et certifiées par l’état. \nL’objectif principal étant de vous faire monter en compétence et ainsi vous aider à évoluer professionnellement ! \nVous trouvez\, en cliquant sur le bouton juste en dessous\, tous les détails de la formation 👉  le programme\, les pré-requis\, la fiche d’inscription\, les objectifs… \nVous pourrez également faire votre demande d’inscription en ligne pour cette formation !  \n\nÀ Propos De Cette Formation
URL:https://www.aquaterra58.fr/format/calendrier/pse-1-mars-avril-part-2/
LOCATION:Salle des fêtes\, Place de la mairie\, La Marche (58)\, 58400\, France
CATEGORIES:Session 1
ATTACH;FMTTYPE=image/jpeg:https://www.aquaterra58.fr/format/wp-content/uploads/2022/11/20221119_152016-1-scaled.jpg
ORGANIZER;CN="Gaetan%20LEMETAYER":MAILTO:format@aquaterra58.fr
END:VEVENT
END:VCALENDAR