BEGIN:VCALENDAR
VERSION:2.0
PRODID:-//FORMAT° - ECPv6.0.0.1//NONSGML v1.0//EN
CALSCALE:GREGORIAN
METHOD:PUBLISH
X-WR-CALNAME:FORMAT°
X-ORIGINAL-URL:https://www.aquaterra58.fr/format
X-WR-CALDESC:Events for FORMAT°
REFRESH-INTERVAL;VALUE=DURATION:PT1H
X-Robots-Tag:noindex
X-PUBLISHED-TTL:PT1H
BEGIN:VTIMEZONE
TZID:Europe/Paris
BEGIN:DAYLIGHT
TZOFFSETFROM:+0100
TZOFFSETTO:+0200
TZNAME:CEST
DTSTART:20230326T010000
END:DAYLIGHT
BEGIN:STANDARD
TZOFFSETFROM:+0200
TZOFFSETTO:+0100
TZNAME:CET
DTSTART:20231029T010000
END:STANDARD
BEGIN:DAYLIGHT
TZOFFSETFROM:+0100
TZOFFSETTO:+0200
TZNAME:CEST
DTSTART:20240331T010000
END:DAYLIGHT
BEGIN:STANDARD
TZOFFSETFROM:+0200
TZOFFSETTO:+0100
TZNAME:CET
DTSTART:20241027T010000
END:STANDARD
END:VTIMEZONE
BEGIN:VEVENT
DTSTART;VALUE=DATE:20231106
DTEND;VALUE=DATE:20240224
DTSTAMP:20260423T132726
CREATED:20230905T111050Z
LAST-MODIFIED:20230905T111050Z
UID:15014-1699228800-1708732799@www.aquaterra58.fr
SUMMARY:BNSSA Formule Etudiant
DESCRIPTION:Une formation professionnelle\nselon vos besoins !\nLes formations professionnelles de l’organisme FORMAT° sont spécialisées dans le domaine sportif. \nNotre mission est de vous accompagner dans votre parcours professionnel\, c’est pourquoi nous proposons différentes formations qualifiantes et certifiées par l’état. \nL’objectif principal étant de vous faire monter en compétence et ainsi vous aider à évoluer professionnellement ! \nVous trouvez\, en cliquant sur le bouton juste en dessous\, tous les détails de la formation 👉  le programme\, les pré-requis\, la fiche d’inscription\, les objectifs… \nVous pourrez également faire votre demande d’inscription en ligne pour cette formation !  \n\nÀ Propos De Cette Formation
URL:https://www.aquaterra58.fr/format/calendrier/bnssa-formule-etudiant/
CATEGORIES:Session 1
ATTACH;FMTTYPE=image/jpeg:https://www.aquaterra58.fr/format/wp-content/uploads/2021/07/female-lifeguard-standing-with-rescue-can-at-pools-2021-08-28-17-57-37-utc-min-scaled.jpg
ORGANIZER;CN="Gaetan%20LEMETAYER":MAILTO:format@aquaterra58.fr
END:VEVENT
END:VCALENDAR